BEGIN:VCALENDAR
VERSION:2.0
PRODID:-//Pasture+ - ECPv6.15.20//NONSGML v1.0//EN
CALSCALE:GREGORIAN
METHOD:PUBLISH
X-ORIGINAL-URL:https://pastureplus.org
X-WR-CALDESC:Eventos para Pasture+
REFRESH-INTERVAL;VALUE=DURATION:PT1H
X-Robots-Tag:noindex
X-PUBLISHED-TTL:PT1H
BEGIN:VTIMEZONE
TZID:UTC
BEGIN:STANDARD
TZOFFSETFROM:+0000
TZOFFSETTO:+0000
TZNAME:UTC
DTSTART:20240101T000000
END:STANDARD
END:VTIMEZONE
BEGIN:VEVENT
DTSTART;VALUE=DATE:20250527
DTEND;VALUE=DATE:20250611
DTSTAMP:20260419T171433
CREATED:20250709T121626Z
LAST-MODIFIED:20250710T121901Z
UID:480-1748304000-1749599999@pastureplus.org
SUMMARY:Curso: Monitorización ecológica: Verificación ecológica de resultados (EOV)
DESCRIPTION:48 horas\, semipresencial \nPARTE PRESENCIAL\n30\, 31 de MAYO y 1 de JUNIO\nUbicación: Orduña (Vizcaya) \nPARTE ONLINE\n27 de MAYO / 10 de JUNIO 17:00 a 20:00 h\nZoom y plataforma BBBfarming
URL:https://pastureplus.org/event/curso-monitorizacion-ecologica-verificacion-ecologica-de-resultados-eov/
ATTACH;FMTTYPE=image/jpeg:https://pastureplus.org/wp-content/uploads/2025/07/Unknown-4.jpeg
END:VEVENT
BEGIN:VEVENT
DTSTART;VALUE=DATE:20250528
DTEND;VALUE=DATE:20250529
DTSTAMP:20260419T171433
CREATED:20260108T150118Z
LAST-MODIFIED:20260108T150118Z
UID:611-1748390400-1748476799@pastureplus.org
SUMMARY:Jornada Red de Productores de Buenas Prácticas Ganaderas (Suroeste de la Península Ibérica)
DESCRIPTION:28 de MAYO \n09:30h \nUbicación: Finca El Baldío (Talaván\, Cáceres)
URL:https://pastureplus.org/event/jornada-red-de-productores-de-buenas-practicas-ganaderas-suroeste-de-la-peninsula-iberica/
ATTACH;FMTTYPE=image/jpeg:https://pastureplus.org/wp-content/uploads/2026/01/499665505_665049293165753_3243792524324355057_n.jpg
END:VEVENT
END:VCALENDAR