BEGIN:VCALENDAR
VERSION:2.0
PRODID:-//Pasture+ - ECPv6.15.20//NONSGML v1.0//EN
CALSCALE:GREGORIAN
METHOD:PUBLISH
X-ORIGINAL-URL:https://pastureplus.org
X-WR-CALDESC:Eventos para Pasture+
REFRESH-INTERVAL;VALUE=DURATION:PT1H
X-Robots-Tag:noindex
X-PUBLISHED-TTL:PT1H
BEGIN:VTIMEZONE
TZID:UTC
BEGIN:STANDARD
TZOFFSETFROM:+0000
TZOFFSETTO:+0000
TZNAME:UTC
DTSTART:20240101T000000
END:STANDARD
END:VTIMEZONE
BEGIN:VEVENT
DTSTART;VALUE=DATE:20250524
DTEND;VALUE=DATE:20250525
DTSTAMP:20260423T085157
CREATED:20260108T145615Z
LAST-MODIFIED:20260108T145615Z
UID:608-1748044800-1748131199@pastureplus.org
SUMMARY:Programa de la Jornada Red de Productores de Buenas Prácticas Ganaderas
DESCRIPTION:24 de MAYO\nUbicación: Cortijo El Moro (Fátima – Granada) \n10:00h: Asamblea de Pastoreo\, Juventud y Oficios del Rural \n13:30: Comida
URL:https://pastureplus.org/event/programa-de-la-jornada-red-de-productores-de-buenas-practicas-ganaderas/
ATTACH;FMTTYPE=image/jpeg:https://pastureplus.org/wp-content/uploads/2026/01/497639335_662173466786669_8812265681126939263_n.jpg
END:VEVENT
END:VCALENDAR