BEGIN:VCALENDAR
VERSION:2.0
PRODID:-//Pasture+ - ECPv6.15.20//NONSGML v1.0//EN
CALSCALE:GREGORIAN
METHOD:PUBLISH
X-ORIGINAL-URL:https://pastureplus.org
X-WR-CALDESC:Eventos para Pasture+
REFRESH-INTERVAL;VALUE=DURATION:PT1H
X-Robots-Tag:noindex
X-PUBLISHED-TTL:PT1H
BEGIN:VTIMEZONE
TZID:UTC
BEGIN:STANDARD
TZOFFSETFROM:+0000
TZOFFSETTO:+0000
TZNAME:UTC
DTSTART:20240101T000000
END:STANDARD
END:VTIMEZONE
BEGIN:VEVENT
DTSTART;VALUE=DATE:20250402
DTEND;VALUE=DATE:20250404
DTSTAMP:20260419T200505
CREATED:20250709T123249Z
LAST-MODIFIED:20250709T123249Z
UID:487-1743552000-1743724799@pastureplus.org
SUMMARY:Curso: Iniciación en la monitorización de edafofauna y polinizadores
DESCRIPTION:Programa\n2 de ABRIL\nTorrejón El Rubio (Cáceres) \n9:30h Recepción y bienvenida\n10h a 10:15h Presentación\n10:15h a 11:45h Metodologías para el monitoreo de la biodiversidad en pastos: edafofauna y polinizadores.\n11:45h a 12:15h Descanso\n12:15h a 13:30h Práctica de monitorización e identificación de grupos funcionales\n13:30h a 14h Observación en lupa¡\n16h a 18h Cesta de métricas para el cálculo de ganancias de biodiversidad \n3 de ABRIL\nFinca El Baldio (Talaván) \n10h a 10:30h Llegada de participantes\n10:30h a 13:30h Práctica en la aplicación de la ‘Cesta de métricas’
URL:https://pastureplus.org/event/curso-iniciacion-en-la-monitorizacion-de-edafofauna-y-polinizadores/
ATTACH;FMTTYPE=image/jpeg:https://pastureplus.org/wp-content/uploads/2025/07/Unknown-6.jpeg
END:VEVENT
END:VCALENDAR