BEGIN:VCALENDAR
VERSION:2.0
PRODID:-//Pasture+ - ECPv6.15.20//NONSGML v1.0//EN
CALSCALE:GREGORIAN
METHOD:PUBLISH
X-ORIGINAL-URL:https://pastureplus.org
X-WR-CALDESC:Eventos para Pasture+
REFRESH-INTERVAL;VALUE=DURATION:PT1H
X-Robots-Tag:noindex
X-PUBLISHED-TTL:PT1H
BEGIN:VTIMEZONE
TZID:UTC
BEGIN:STANDARD
TZOFFSETFROM:+0000
TZOFFSETTO:+0000
TZNAME:UTC
DTSTART:20230101T000000
END:STANDARD
END:VTIMEZONE
BEGIN:VEVENT
DTSTART;VALUE=DATE:20240508
DTEND;VALUE=DATE:20240627
DTSTAMP:20260420T115439
CREATED:20250709T124035Z
LAST-MODIFIED:20250709T124035Z
UID:490-1715126400-1719446399@pastureplus.org
SUMMARY:Curso: Abonos verdes y cubiertas vegetales gestionados con ganadería
DESCRIPTION:SURESTE DE LA PENÍNSULA IBÉRICA \n(24h) Semipresencial \n8 de MAYO 2024\n10.00 a 14.00 horas\nFinca Hoya Cacis\nCampocamara (Granada) \n13 y 26 de JUNIO 2024\n16.00 a 20.00 horas\nOnline – Zoom y plataforma de formación BBBFarming
URL:https://pastureplus.org/event/curso-abonos-verdes-y-cubiertas-vegetales-gestionados-con-ganaderia/
LOCATION:Finca Hoya Cacis Campocamara\, Granada\, Spain
ATTACH;FMTTYPE=image/jpeg:https://pastureplus.org/wp-content/uploads/2025/07/Unknown-7.jpeg
END:VEVENT
END:VCALENDAR