BEGIN:VCALENDAR
VERSION:2.0
PRODID:-//Pasture+ - ECPv6.15.20//NONSGML v1.0//EN
CALSCALE:GREGORIAN
METHOD:PUBLISH
X-ORIGINAL-URL:https://pastureplus.org
X-WR-CALDESC:Eventos para Pasture+
REFRESH-INTERVAL;VALUE=DURATION:PT1H
X-Robots-Tag:noindex
X-PUBLISHED-TTL:PT1H
BEGIN:VTIMEZONE
TZID:UTC
BEGIN:STANDARD
TZOFFSETFROM:+0000
TZOFFSETTO:+0000
TZNAME:UTC
DTSTART:20230101T000000
END:STANDARD
END:VTIMEZONE
BEGIN:VEVENT
DTSTART;TZID=UTC:20240402T080000
DTEND;TZID=UTC:20240411T170000
DTSTAMP:20260422T015601
CREATED:20250709T124359Z
LAST-MODIFIED:20250711T072041Z
UID:493-1712044800-1712854800@pastureplus.org
SUMMARY:Curso: Monitorización ecológica: Verificación ecológica de resultados (EOV)
DESCRIPTION:SURESTE DE LA PENÍNSULA IBÉRICA\n(48 h) Semipresencial \n2-4 de ABRIL 2024\n2 y 3-9.00 a 18.30 horas\n4 – 9.00 a 14.00 horas\nFinca Llano Fazares\n(Pto. de encuentro Rte. Los Chaparros) Freila (Granada) \n9 y 11 de ABRIL 2024\n16.00 a 20.00 horas\nOnline – Zoom y plataforma de formación BBBFarming
URL:https://pastureplus.org/event/curso-monitorizacion-ecologica-verificacion-ecologica-de-resultados-eov-2/
LOCATION:Finca Llano Fazares\, Freila\, Granada\, Spain
ATTACH;FMTTYPE=image/jpeg:https://pastureplus.org/wp-content/uploads/2025/07/Unknown-8.jpeg
END:VEVENT
END:VCALENDAR